{"text_format":"1","workbook":"xlsx","n_sheets":12,"sheets":["علوم اجتماعية  (4)","فلسفة  (3)","لغة 1","احصاء (3)","لغة عربية 3)","لغة مهارات 2(3)","المناهج 3","احياء وبيئة 3","علم النفس العام3","رياضية 3","تربية صحية","علوم اجتماعية  (3)"],"not_rendered":{"charts":0,"images":0,"macros":1,"external_links":0,"defined_names":35,"comments":0,"pivot_tables":0},"unopened":[],"bounds":{"document_bytes":16777216,"sheet_cells":100000,"rows_first":2000,"rows_last":500,"rows_between":2000,"halvings":0,"cell_chars":16384,"cell_head_chars":4096},"cells_cut":0,"cells_raw":0,"read":"whole","date_system":"1900"}

{"sheet":"علوم اجتماعية  (4)","index":0,"n_rows":9,"n_cols":10,"rows_kept":9,"cut":false,"hidden":false,"merged":[[365,0,365,8],[0,0,0,1],[3,0,4,0],[3,1,4,1],[3,2,4,2],[3,3,4,3],[3,4,4,4],[3,5,4,5],[3,6,3,7],[3,8,4,8],[238,0,238,8],[281,0,281,8],[741,0,741,8],[477,0,477,8],[516,0,516,8],[604,0,604,8],[615,0,615,8],[625,0,625,8],[629,0,629,8],[650,0,650,8],[681,0,681,8],[721,0,721,8],[729,0,729,8],[733,0,733,8],[1072,0,1072,8],[770,0,770,8],[780,0,780,8],[782,0,782,8],[848,0,848,8],[994,0,994,8],[1034,0,1034,8]]}
[null,null,"المقرر: العلوم الاجتماعية (تاريخ وجغرافيا)"]
[null,null,"السنة: الاولى","الدورة: التكميلة",null,null,"العام الدراسي : 2016-2017","2017-2018"]
[null,null,null,"مواد الفصل : الثاني",null,null," نوع الامتحان : عملي + نظري"]
["م","الرقم الجامعي","الاسم والشهرة","اسم الأب","العملي","النظري","المجموع",null,"ملاحظات"]
[null,null,null,null,null,null,"رقماً","كتابةً"]
[null,null,"سنة رابعة (حملة)",null,null,null,null,null,null,{"$f":"COUNT(F7:F1139)","v":3}]
[null,3745,"جيما حاصود","فايز",27,35,{"$f":"IF(F7=\"غائب\",F7,IF(E7=\"غائب\",F7,F7+E7))","v":62},{"$f":"IF(G7=\"غائب\",G7,limam(G7))","v":"اثنتان و ستون "}]
[null,5306,"ماريوس عدبة","جرجس",12,40,52,{"$f":"IF(G8=\"غائب\",G8,limam(G8))","v":"اثنتان و خمسون "}]
[null,5834,"فاطمة عمعوم",null,13,51,64,{"$f":"IF(G9=\"غائب\",G9,limam(G9))","v":"أربع و ستون "}]

{"sheet":"فلسفة  (3)","index":1,"n_rows":15,"n_cols":13,"rows_kept":15,"cut":false,"hidden":false,"merged":[[3,4,4,4],[3,5,3,6],[3,7,4,7],[0,0,0,1],[0,2,0,3],[3,0,4,0],[3,1,4,1],[3,2,4,2],[3,3,4,3]]}
[null,null,"المقرر: فلسفة التربية"]
[null,null,"السنة: الأولى","الدورة: التكميلية",null,null,"العام الدراسي : 2017-2018"]
[null,null,"التاريخ :   26 \\ 9 \\  2018 ","مواد الفصل : الأول",null,null," نوع الامتحان :  نظري"]
["م","الرقم الجامعي","الاسم والشهرة","اسم الأب","النظري","المجموع",null,"ملاحظات "]
[null,null,null,null,null,"رقماً","كتابةً",null,null,null,"الرقم الامتحاني","الاسم","العلامة النهائية"]
[132,15393,"زينة السليمان","حسن","غائب",{"$f":"E6","v":"غائب"},{"$f":"IF(F6=\"غائب\",F6,limam(F6))","v":"غائب"},null,null,null,2311,"دعاء المعماع",48]
[56,14439,"رغد الاحمد الجمال",null,{"$f":"VLOOKUP(B7,K:M,3,0)","v":66},66,{"$f":"IF(F7=\"غائب\",F7,limam(F7))","v":"ست و ستون "},null,null,null,5231,"هند حجازي",68]
[2,2311,"دعاء المعماع","اسامة",{"$f":"VLOOKUP(B8,K:M,3,0)","v":48},48,{"$f":"IF(F8=\"غائب\",F8,limam(F8))","v":"ثمان و أربعون "},null,null,null,5288,"راما شومل",60]
[9,5231,"هند حجازي",null,68,68,{"$f":"IF(F9=\"غائب\",F9,limam(F9))","v":"ثمان و ستون "},null,null,null,5499,"براءة عثمان",82]
[10,5288,"راما شومل","محمد",60,60,{"$f":"IF(F10=\"غائب\",F10,limam(F10))","v":"ستون "},null,null,null,5703,"أسعد الأسعد",58]
[12,5499,"براءة عثمان","أحمد",82,82,{"$f":"IF(F11=\"غائب\",F11,limam(F11))","v":"اثنتان و ثمانون "},null,null,null,14439,"رغد الاحمد الجمال",66]
[14,5703,"أسعد الأسعد",null,"غائب","غائب",{"$f":"IF(F12=\"غائب\",F12,limam(F12))","v":"غائب"},null,null,null,15393,"زينة السليمان",74]
[37,17048,"هيام الابراهيم",null,76,76,{"$f":"IF(F13=\"غائب\",F13,limam(F13))","v":"ست و سبعون "},null,null,null,17048,"هيام الابراهيم",76]
[56,17068,"أمل عبد الحسن",null,70,70,{"$f":"IF(F14=\"غائب\",F14,limam(F14))","v":"سبعون "},null,null,null,17068,"أمل عبد الحسن",70]
[80,17114,"أمينة حمود العلي ",null,72,72,{"$f":"IF(F15=\"غائب\",F15,limam(F15))","v":"اثنتان و سبعون "},null,null,null,17114,"أمينة حمود العلي",72]

{"sheet":"لغة 1","index":2,"n_rows":26,"n_cols":14,"rows_kept":26,"cut":false,"hidden":false,"merged":[[782,0,782,7],[848,0,848,7],[994,0,994,7],[1034,0,1034,7],[1072,0,1072,7],[780,0,780,7],[604,0,604,7],[615,0,615,7],[625,0,625,7],[629,0,629,7],[650,0,650,7],[681,0,681,7],[721,0,721,7],[729,0,729,7],[733,0,733,7],[741,0,741,7],[770,0,770,7],[516,0,516,7],[0,0,0,1],[2,5,2,6],[3,0,4,0],[3,1,4,1],[3,2,4,2],[3,3,4,3],[3,4,4,4],[3,5,3,6],[3,7,4,7],[238,0,238,7],[281,0,281,7],[365,0,365,7],[477,0,477,7]]}
[null,null,"المقرر: لغة مهارات 1"]
[null,null,"السنة: الاولى","الدورة: التكميلية",null,"العام الدراسي : 2016-2017","2017-2018"]
[null,null,null,"مواد الفصل : الثاني","الثاني","نوع الامتحان : نظري"]
["م","الرقم الجامعي","الاسم والشهرة","اسم الأب","النظري","المجموع",null,"ملاحظات"]
[null,null,null,null,null,"رقماً","كتابةً",null,null,null,null,"الرقم الامتحاني","الاسم","العلامة النهائية"]
[1,2780,"فصال طيار","فضل",61,61,{"$f":"IF(F6=\"غائب\",F6,limam(F6))","v":"إحدى و ستون "},null,{"$f":"COUNT(E7:E1139)","v":20},null,null,2438,"محمد الشيخ",60]
[2,3051,"ماري اسحق","افرام",89,89,{"$f":"IF(F7=\"غائب\",F7,limam(F7))","v":"تسع و ثمانون "},null,null,null,null,3044,"جورج اليان",44]
[3,3561,"سامح الجمال","زهير",100,100,{"$f":"IF(F8=\"غائب\",F8,limam(F8))","v":"مائة "},null,null,null,null,3994,"عائشة البكور",54]
[4,3835,"عبدالله المصطفى","محي الدين",81,81,{"$f":"IF(F9=\"غائب\",F9,limam(F9))","v":"إحدى و ثمانون "},null,null,null,null,4148,"محمد خالد الحفيان",54]
[5,4057,"رزان الحداد","مأمون",92,92,{"$f":"IF(F10=\"غائب\",F10,limam(F10))","v":"اثنتان و تسعون "},null,null,null,null,4570,"بشار السليمان",66]
[6,4177,"فلك الخضير",null,85,{"$f":"IF(E11=\"غائب\",E11,IF(D11=\"غائب\",E11,E11+D11))","v":85},{"$f":"IF(F11=\"غائب\",F11,limam(F11))","v":"خمس و ثمانون "},null,null,null,null,4932,"كرم سفاف",60]
[7,4385,"مصطفى بكور",null,70,70,{"$f":"IF(F12=\"غائب\",F12,limam(F12))","v":"سبعون "},null,null,null,null,5128,"سوسن سليم",54]
[8,5194,"نعمة الجيجاوي","أحمد",80,80,{"$f":"IF(F13=\"غائب\",F13,limam(F13))","v":"ثمانون "},null,null,null,null,5508,"أمل خلف",44]
[9,5563,"محمد امجد الصطوف","عبد الرحمن",85,85,{"$f":"IF(F14=\"غائب\",F14,limam(F14))","v":"خمس و ثمانون "},null,null,null,null,5618,"توفيق الحمدو",42]
[10,5664,"غالية اسماعيل","عبد الباسط",81,81,{"$f":"IF(F15=\"غائب\",F15,limam(F15))","v":"إحدى و ثمانون "},null,null,null,null,5771,"بشرى برهوم",52]
[11,5703,"أسعد الاسعد","احمد",61,61,{"$f":"IF(F16=\"غائب\",F16,limam(F16))","v":"إحدى و ستون "}]
[12,3994,"عائشة البكور",null,{"$f":"VLOOKUP(B17,L:N,3,0)","v":54},54,{"$f":"IF(F17=\"غائب\",F17,limam(F17))","v":"أربع و خمسون "}]
[13,4570,"بشار السليمان",null,{"$f":"VLOOKUP(B18,L:N,3,0)","v":66},66,{"$f":"IF(F18=\"غائب\",F18,limam(F18))","v":"ست و ستون "}]
[14,4932,"كرم سفاف",null,60,60,{"$f":"IF(F19=\"غائب\",F19,limam(F19))","v":"ستون "}]
[15,4148,"محمد خالد الحفيان",null,54,54,{"$f":"IF(F20=\"غائب\",F20,limam(F20))","v":"أربع و خمسون "}]
[16,5618,"توفيق الحمدو",null,42,42,{"$f":"IF(F21=\"غائب\",F21,limam(F21))","v":"اثنتان و أربعون "}]
[17,3044,"جورج اليان",null,44,44,{"$f":"IF(F22=\"غائب\",F22,limam(F22))","v":"أربع و أربعون "}]
[18,2438,"محمد الشيخ",null,60,60,{"$f":"IF(F23=\"غائب\",F23,limam(F23))","v":"ستون "}]
[19,5771,"بشرى برهوم",null,52,52,{"$f":"IF(F24=\"غائب\",F24,limam(F24))","v":"اثنتان و خمسون "}]
[20,5128,"سوسن سليم",null,54,54,{"$f":"IF(F25=\"غائب\",F25,limam(F25))","v":"أربع و خمسون "}]
[21,5508,"أمل خلف ",null,44,44,{"$f":"IF(F26=\"غائب\",F26,limam(F26))","v":"أربع و أربعون "}]

{"sheet":"احصاء (3)","index":3,"n_rows":13,"n_cols":8,"rows_kept":13,"cut":false,"hidden":false,"merged":[[3,8,4,8],[0,0,0,1],[0,2,0,3],[1,6,1,8],[3,0,4,0],[3,1,4,1],[3,2,4,2],[3,3,4,3],[3,4,4,4],[3,5,4,5],[3,6,3,7]]}
[null,null,"المقرر: الإحصاء في التربية"]
[null,null,"السنة: الأولى","الدورة: التكميلية",null,null,"العام الدراسي : 2017-2018"]
[null,null,"التاريخ : 25 \\9 \\  2018 ","مواد الفصل : الثاني",null,null," نوع الامتحان : عملي + نظري"]
["م","الرقم الجامعي","الاسم والشهرة","اسم الأب","العملي","النظري","المجموع"]
[null,null,null,null,null,null,"رقماً","كتابةً"]
[1,3547,"روعه اخرس","محمود","غائب",23,{"$f":"IF(F6=\"غائب\",F6,IF(E6=\"غائب\",F6,F6+E6))","v":23},{"$f":"IF(G6=\"غائب\",G6,limam(G6))","v":"ثلاث و عشرون "}]
[2,3658,"شيراز المحمد","احمد",11,41,52,{"$f":"IF(G7=\"غائب\",G7,limam(G7))","v":"اثنتان و خمسون "}]
[3,3887,"سوزان العوض","احمد",12,59,71,{"$f":"IF(G8=\"غائب\",G8,limam(G8))","v":"إحدى و سبعون "}]
[4,3973,"علي فطراوي","عدنان",11,36,47,{"$f":"IF(G9=\"غائب\",G9,limam(G9))","v":"سبع و أربعون "}]
[5,5210,"بتول مشعل",null,15,55,70,{"$f":"IF(G10=\"غائب\",G10,limam(G10))","v":"سبعون "}]
[6,5357,"مرح الشحنة","ديبو",18,40,58,{"$f":"IF(G11=\"غائب\",G11,limam(G11))","v":"ثمان و خمسون "}]
[7,5507,"سوسن الخلف","محمدساهر",11,55,66,{"$f":"IF(G12=\"غائب\",G12,limam(G12))","v":"ست و ستون "}]
[8,6164,"رامي الناصر","عمر",12,44,56,{"$f":"IF(G13=\"غائب\",G13,limam(G13))","v":"ست و خمسون "}]

{"sheet":"لغة عربية 3)","index":4,"n_rows":460,"n_cols":10,"rows_kept":460,"cut":false,"hidden":false,"merged":[[5,8,6,8],[7,0,7,3],[3,2,3,4],[3,6,3,8],[4,6,4,8],[5,0,6,0],[5,1,6,1],[5,2,6,2],[5,3,6,3],[5,4,6,4],[5,5,6,5],[5,6,5,7],[2,6,2,8],[0,0,0,1],[1,0,1,1],[1,2,1,4],[2,0,2,1],[2,2,2,4]]}
["  جامعة حماه"]
["    كلية التربية ",null,"المادة : اللغة العربية وطرائق تدريسها /1/  "]
["   السنة الأولى",null,"نوع الامتحان : عملي + نظري ",null,null,null,"العام الدراسي : 2017-2018"]
[null,null,"مواد : فصل أول                 ",null,null,null,"الدورة : التكميلية     "]
[null,null,null,null,null,null,"تاريخه :  25  / 9   / 2018       "]
["م","الرقم الجامعي","الاسم والشهرة","اسم الأب","العملي","النظري","المجموع",null,"ملاحظات"]
[null,null,null,null,null,null,"رقماً","كتابةً"]
[null,null,null,null,null,null,null,null,null,{"$f":"COUNT(F9:F10)","v":2}]
[1,4426,"زينب بطمان","عبد العزيز","غائب",48,{"$f":"IF(F9=\"غائب\",F9,IF(E9=\"غائب\",CEILING(F9,1),CEILING((F9+E9),1)))","v":48},{"$f":"IF(G9=\"غائب\",G9,limam(G9))","v":"ثمان و أربعون "}]
[2,5260,"سالي اليوسف","عماد","غائب",63,63,{"$f":"IF(G10=\"غائب\",G10,limam(G10))","v":"ثلاث و ستون "}]
[3,5507,"سوسن الخلف",null,"غائب",53,53,{"$f":"IF(G11=\"غائب\",G11,limam(G11))","v":"ثلاث و خمسون "}]
[]
[]
[]
[]
[]
[]
[]
[]
[]
[]
[]
[]
[]
[]
[]
[]
[]
[]
[]
[]
[]
[]
[]
[]
[]
[]
[]
[]
[]
[]
[]
[]
[]
[]
[]
[]
[]
[]
[]
[]
[]
[]
[]
[]
[]
[]
[]
[]
[]
[]
[]
[]
[]
[]
[]
[]
[]
[]
[]
[]
[]
[]
[]
[]
[]
[]
[]
[]
[]
[]
[]
[]
[]
[]
[]
[]
[]
[]
[]
[]
[]
[]
[]
[]
[]
[]
[]
[]
[]
[]
[]
[]
[]
[]
[]
[]
[]
[]
[]
[]
[]
[]
[]
[]
[]
[]
[]
[]
[]
[]
[]
[]
[]
[]
[]
[]
[]
[]
[]
[]
[]
[]
[]
[]
[]
[]
[]
[]
[]
[]
[]
[]
[]
[]
[]
[]
[]
[]
[]
[]
[]
[]
[]
[]
[]
[]
[]
[]
[]
[]
[]
[]
[]
[]
[]
[]
[]
[]
[]
[]
[]
[]
[]
[]
[]
[]
[]
[]
[]
[]
[]
[]
[]
[]
[]
[]
[]
[]
[]
[]
[]
[]
[]
[]
[]
[]
[]
[]
[]
[]
[]
[]
[]
[]
[]
[]
[]
[]
[]
[]
[]
[]
[]
[]
[]
[]
[]
[]
[]
[]
[]
[]
[]
[]
[]
[]
[]
[]
[]
[]
[]
[]
[]
[]
[]
[]
[]
[]
[]
[]
[]
[]
[]
[]
[]
[]
[]
[]
[]
[]
[]
[]
[]
[]
[]
[]
[]
[]
[]
[]
[]
[]
[]
[]
[]
[]
[]
[]
[]
[]
[]
[]
[]
[]
[]
[]
[]
[]
[]
[]
[]
[]
[]
[]
[]
[]
[]
[]
[]
[]
[]
[]
[]
[]
[]
[]
[]
[]
[]
[]
[]
[]
[]
[]
[]
[]
[]
[]
[]
[]
[]
[]
[]
[]
[]
[]
[]
[]
[]
[]
[]
[]
[]
[]
[]
[]
[]
[]
[]
[]
[]
[]
[]
[]
[]
[]
[]
[]
[]
[]
[]
[]
[]
[null,null,null,null,null,null,null,null,null,{"$f":"COUNTIF(B:B,#REF!)","v":0}]
[null,null,null,null,null,null,null,null,null,{"$f":"COUNTIF(B:B,#REF!)","v":0}]
[null,null,null,null,null,null,null,null,null,{"$f":"COUNTIF(B:B,#REF!)","v":0}]
[null,null,null,null,null,null,null,null,null,{"$f":"COUNTIF(B:B,#REF!)","v":0}]
[null,null,null,null,null,null,null,null,null,{"$f":"COUNTIF(B:B,#REF!)","v":0}]
[null,null,null,null,null,null,null,null,null,{"$f":"COUNTIF(B:B,#REF!)","v":0}]
[null,null,null,null,null,null,null,null,null,{"$f":"COUNTIF(B:B,#REF!)","v":0}]
[null,null,null,null,null,null,null,null,null,{"$f":"COUNTIF(B:B,#REF!)","v":0}]
[null,null,null,null,null,null,null,null,null,{"$f":"COUNTIF(B:B,#REF!)","v":0}]
[null,null,null,null,null,null,null,null,null,{"$f":"COUNTIF(B:B,#REF!)","v":0}]
[null,null,null,null,null,null,null,null,null,{"$f":"COUNTIF(B:B,#REF!)","v":0}]
[null,null,null,null,null,null,null,null,null,{"$f":"COUNTIF(B:B,#REF!)","v":0}]
[null,null,null,null,null,null,null,null,null,{"$f":"COUNTIF(B:B,#REF!)","v":0}]
[null,null,null,null,null,null,null,null,null,{"$f":"COUNTIF(B:B,#REF!)","v":0}]
[null,null,null,null,null,null,null,null,null,{"$f":"COUNTIF(B:B,#REF!)","v":0}]
[null,null,null,null,null,null,null,null,null,{"$f":"COUNTIF(B:B,#REF!)","v":0}]
[null,null,null,null,null,null,null,null,null,{"$f":"COUNTIF(B:B,#REF!)","v":0}]
[null,null,null,null,null,null,null,null,null,{"$f":"COUNTIF(B:B,#REF!)","v":0}]
[null,null,null,null,null,null,null,null,null,{"$f":"COUNTIF(B:B,#REF!)","v":0}]
[null,null,null,null,null,null,null,null,null,{"$f":"COUNTIF(B:B,#REF!)","v":0}]
[null,null,null,null,null,null,null,null,null,{"$f":"COUNTIF(B:B,#REF!)","v":0}]
[null,null,null,null,null,null,null,null,null,{"$f":"COUNTIF(B:B,#REF!)","v":0}]
[null,null,null,null,null,null,null,null,null,{"$f":"COUNTIF(B:B,#REF!)","v":0}]
[null,null,null,null,null,null,null,null,null,{"$f":"COUNTIF(B:B,#REF!)","v":0}]
[null,null,null,null,null,null,null,null,null,{"$f":"COUNTIF(B:B,#REF!)","v":0}]
[null,null,null,null,null,null,null,null,null,{"$f":"COUNTIF(B:B,#REF!)","v":0}]
[null,null,null,null,null,null,null,null,null,{"$f":"COUNTIF(B:B,#REF!)","v":0}]
[null,null,null,null,null,null,null,null,null,{"$f":"COUNTIF(B:B,#REF!)","v":0}]
[null,null,null,null,null,null,null,null,null,{"$f":"COUNTIF(B:B,#REF!)","v":0}]
[null,null,null,null,null,null,null,null,null,{"$f":"COUNTIF(B:B,#REF!)","v":0}]
[null,null,null,null,null,null,null,null,null,{"$f":"COUNTIF(B:B,#REF!)","v":0}]
[null,null,null,null,null,null,null,null,null,{"$f":"COUNTIF(B:B,#REF!)","v":0}]
[null,null,null,null,null,null,null,null,null,{"$f":"COUNTIF(B:B,#REF!)","v":0}]
[null,null,null,null,null,null,null,null,null,{"$f":"COUNTIF(B:B,#REF!)","v":0}]
[null,null,null,null,null,null,null,null,null,{"$f":"COUNTIF(B:B,#REF!)","v":0}]
[null,null,null,null,null,null,null,null,null,{"$f":"COUNTIF(B:B,#REF!)","v":0}]
[null,null,null,null,null,null,null,null,null,{"$f":"COUNTIF(B:B,#REF!)","v":0}]
[null,null,null,null,null,null,null,null,null,{"$f":"COUNTIF(B:B,#REF!)","v":0}]
[null,null,null,null,null,null,null,null,null,{"$f":"COUNTIF(B:B,#REF!)","v":0}]
[null,null,null,null,null,null,null,null,null,{"$f":"COUNTIF(B:B,#REF!)","v":0}]
[null,null,null,null,null,null,null,null,null,{"$f":"COUNTIF(B:B,#REF!)","v":0}]
[null,null,null,null,null,null,null,null,null,{"$f":"COUNTIF(B:B,#REF!)","v":0}]
[null,null,null,null,null,null,null,null,null,{"$f":"COUNTIF(B:B,#REF!)","v":0}]
[]
[null,null,null,null,null,null,null,null,null,{"$f":"COUNTIF(B:B,#REF!)","v":0}]
[null,null,null,null,null,null,null,null,null,{"$f":"COUNTIF(B:B,#REF!)","v":0}]
[null,null,null,null,null,null,null,null,null,{"$f":"COUNTIF(B:B,#REF!)","v":0}]
[null,null,null,null,null,null,null,null,null,{"$f":"COUNTIF(B:B,#REF!)","v":0}]
[null,null,null,null,null,null,null,null,null,{"$f":"COUNTIF(B:B,#REF!)","v":0}]
[null,null,null,null,null,null,null,null,null,{"$f":"COUNTIF(B:B,#REF!)","v":0}]
[null,null,null,null,null,null,null,null,null,{"$f":"COUNTIF(B:B,#REF!)","v":0}]
[null,null,null,null,null,null,null,null,null,{"$f":"COUNTIF(B:B,#REF!)","v":0}]
[null,null,null,null,null,null,null,null,null,{"$f":"COUNTIF(B:B,#REF!)","v":0}]
[null,null,null,null,null,null,null,null,null,{"$f":"COUNTIF(B:B,#REF!)","v":0}]
[null,null,null,null,null,null,null,null,null,{"$f":"COUNTIF(B:B,#REF!)","v":0}]
[null,null,null,null,null,null,null,null,null,{"$f":"COUNTIF(B:B,#REF!)","v":0}]
[null,null,null,null,null,null,null,null,null,{"$f":"COUNTIF(B:B,#REF!)","v":0}]
[null,null,null,null,null,null,null,null,null,{"$f":"COUNTIF(B:B,#REF!)","v":0}]
[null,null,null,null,null,null,null,null,null,{"$f":"COUNTIF(B:B,#REF!)","v":0}]
[null,null,null,null,null,null,null,null,null,{"$f":"COUNTIF(B:B,#REF!)","v":0}]
[null,null,null,null,null,null,null,null,null,{"$f":"COUNTIF(B:B,#REF!)","v":0}]
[null,null,null,null,null,null,null,null,null,{"$f":"COUNTIF(B:B,#REF!)","v":0}]
[null,null,null,null,null,null,null,null,null,{"$f":"COUNTIF(B:B,#REF!)","v":0}]
[null,null,null,null,null,null,null,null,null,{"$f":"COUNTIF(B:B,#REF!)","v":0}]
[null,null,null,null,null,null,null,null,null,{"$f":"COUNTIF(B:B,#REF!)","v":0}]
[null,null,null,null,null,null,null,null,null,{"$f":"COUNTIF(B:B,#REF!)","v":0}]
[null,null,null,null,null,null,null,null,null,{"$f":"COUNTIF(B:B,#REF!)","v":0}]
[null,null,null,null,null,null,null,null,null,{"$f":"COUNTIF(B:B,#REF!)","v":0}]
[null,null,null,null,null,null,null,null,null,{"$f":"COUNTIF(B:B,#REF!)","v":0}]
[null,null,null,null,null,null,null,null,null,{"$f":"COUNTIF(B:B,#REF!)","v":0}]
[null,null,null,null,null,null,null,null,null,{"$f":"COUNTIF(B:B,#REF!)","v":0}]
[null,null,null,null,null,null,null,null,null,{"$f":"COUNTIF(B:B,#REF!)","v":0}]
[null,null,null,null,null,null,null,null,null,{"$f":"COUNTIF(B:B,#REF!)","v":0}]
[null,null,null,null,null,null,null,null,null,{"$f":"COUNTIF(B:B,#REF!)","v":0}]
[null,null,null,null,null,null,null,null,null,{"$f":"COUNTIF(B:B,#REF!)","v":0}]
[null,null,null,null,null,null,null,null,null,{"$f":"COUNTIF(B:B,#REF!)","v":0}]
[null,null,null,null,null,null,null,null,null,{"$f":"COUNTIF(B:B,#REF!)","v":0}]
[null,null,null,null,null,null,null,null,null,{"$f":"COUNTIF(B:B,#REF!)","v":0}]
[null,null,null,null,null,null,null,null,null,{"$f":"COUNTIF(B:B,#REF!)","v":0}]
[null,null,null,null,null,null,null,null,null,{"$f":"COUNTIF(B:B,#REF!)","v":0}]
[null,null,null,null,null,null,null,null,null,{"$f":"COUNTIF(B:B,#REF!)","v":0}]
[null,null,null,null,null,null,null,null,null,{"$f":"COUNTIF(B:B,#REF!)","v":0}]
[null,null,null,null,null,null,null,null,null,{"$f":"COUNTIF(B:B,#REF!)","v":0}]
[null,null,null,null,null,null,null,null,null,{"$f":"COUNTIF(B:B,#REF!)","v":0}]
[null,null,null,null,null,null,null,null,null,{"$f":"COUNTIF(B:B,#REF!)","v":0}]
[null,null,null,null,null,null,null,null,null,{"$f":"COUNTIF(B:B,#REF!)","v":0}]
[null,null,null,null,null,null,null,null,null,{"$f":"COUNTIF(B:B,#REF!)","v":0}]
[null,null,null,null,null,null,null,null,null,{"$f":"COUNTIF(B:B,#REF!)","v":0}]
[null,null,null,null,null,null,null,null,null,{"$f":"COUNTIF(B:B,#REF!)","v":0}]
[null,null,null,null,null,null,null,null,null,{"$f":"COUNTIF(B:B,#REF!)","v":0}]
[null,null,null,null,null,null,null,null,null,{"$f":"COUNTIF(B:B,#REF!)","v":0}]
[null,null,null,null,null,null,null,null,null,{"$f":"COUNTIF(B:B,#REF!)","v":0}]
[null,null,null,null,null,null,null,null,null,{"$f":"COUNTIF(B:B,#REF!)","v":0}]
[null,null,null,null,null,null,null,null,null,{"$f":"COUNTIF(B:B,#REF!)","v":0}]
[null,null,null,null,null,null,null,null,null,{"$f":"COUNTIF(B:B,#REF!)","v":0}]
[null,null,null,null,null,null,null,null,null,{"$f":"COUNTIF(B:B,#REF!)","v":0}]
[null,null,null,null,null,null,null,null,null,{"$f":"COUNTIF(B:B,#REF!)","v":0}]
[null,null,null,null,null,null,null,null,null,{"$f":"COUNTIF(B:B,#REF!)","v":0}]
[null,null,null,null,null,null,null,null,null,{"$f":"COUNTIF(B:B,#REF!)","v":0}]
[null,null,null,null,null,null,null,null,null,{"$f":"COUNTIF(B:B,#REF!)","v":0}]
[null,null,null,null,null,null,null,null,null,{"$f":"COUNTIF(B:B,#REF!)","v":0}]
[null,null,null,null,null,null,null,null,null,{"$f":"COUNTIF(B:B,#REF!)","v":0}]
[null,null,null,null,null,null,null,null,null,{"$f":"COUNTIF(B:B,#REF!)","v":0}]
[null,null,null,null,null,null,null,null,null,{"$f":"COUNTIF(B:B,#REF!)","v":0}]
[null,null,null,null,null,null,null,null,null,{"$f":"COUNTIF(B:B,#REF!)","v":0}]
[null,null,null,null,null,null,null,null,null,{"$f":"COUNTIF(B:B,#REF!)","v":0}]
[null,null,null,null,null,null,null,null,null,{"$f":"COUNTIF(B:B,#REF!)","v":0}]
[null,null,null,null,null,null,null,null,null,{"$f":"COUNTIF(B:B,#REF!)","v":0}]
[null,null,null,null,null,null,null,null,null,{"$f":"COUNTIF(B:B,#REF!)","v":0}]
[null,null,null,null,null,null,null,null,null,{"$f":"COUNTIF(B:B,#REF!)","v":0}]
[null,null,null,null,null,null,null,null,null,{"$f":"COUNTIF(B:B,#REF!)","v":0}]
[null,null,null,null,null,null,null,null,null,{"$f":"COUNTIF(B:B,#REF!)","v":0}]
[null,null,null,null,null,null,null,null,null,{"$f":"COUNTIF(B:B,#REF!)","v":0}]
[null,null,null,null,null,null,null,null,null,{"$f":"COUNTIF(B:B,#REF!)","v":0}]
[null,null,null,null,null,null,null,null,null,{"$f":"COUNTIF(B:B,#REF!)","v":0}]
[null,null,null,null,null,null,null,null,null,{"$f":"COUNTIF(B:B,#REF!)","v":0}]

{"sheet":"لغة مهارات 2(3)","index":5,"n_rows":16,"n_cols":15,"rows_kept":16,"cut":false,"hidden":false,"merged":[[782,0,782,7],[848,0,848,7],[994,0,994,7],[1034,0,1034,7],[1072,0,1072,7],[780,0,780,7],[604,0,604,7],[615,0,615,7],[625,0,625,7],[629,0,629,7],[650,0,650,7],[681,0,681,7],[721,0,721,7],[729,0,729,7],[733,0,733,7],[741,0,741,7],[770,0,770,7],[516,0,516,7],[0,0,0,1],[1,5,1,6],[2,1,2,2],[2,5,2,6],[3,0,4,0],[3,1,4,1],[3,2,4,2],[3,3,4,3],[3,4,4,4],[3,5,3,6],[3,7,4,7],[238,0,238,7],[281,0,281,7],[365,0,365,7],[477,0,477,7]]}
[null,null,"المقرر: اللغة مهارات 2"]
[null,null,"السنة: الاولى","الدورة: التكميلية",null,"العام الدراسي : 2016-2017"]
[null,"التاريخ : 2018/9/25",null,"مواد الفصل : الثاني","الثاني","نوع الامتحان : نظري"]
["م","الرقم الجامعي","الاسم والشهرة","اسم الأب","النظري","المجموع",null,"ملاحظات"]
[null,null,null,null,null,"رقماً","كتابةً"]
[null,4503,"صبا الديبان",null,{"$f":"VLOOKUP(B6,K:M,3,0)","v":76},{"$f":"IF(E6=\"غائب\",E6,IF(D6=\"غائب\",E6,E6+D6))","v":76},{"$f":"IF(F6=\"غائب\",F6,limam(F6))","v":"ست و سبعون "},null,{"$f":"COUNT(E7:E1139)","v":10},null,"الرقم الامتحاني","الاسم","العلامة النهائية"]
[1,15337,"وائل العلي","عبد الرزاق",{"$f":"VLOOKUP(B7,K:M,3,0)","v":62},62,{"$f":"IF(F7=\"غائب\",F7,limam(F7))","v":"اثنتان و ستون "},null,null,null,3044,"جورد اليان",70,{"$f":"VLOOKUP(K7,B:E,4,0)","v":70},{"$f":"M7-N7","v":0}]
[2,5577,"مريم فرزاد","حكمت",80,80,{"$f":"IF(F8=\"غائب\",F8,limam(F8))","v":"ثمانون "},null,null,null,3299,"محمود الضاهر",40,{"$f":"VLOOKUP(K8,B:E,4,0)","v":40},{"$f":"M8-N8","v":0}]
[3,5664,"غالية اسماعيل",null,60,{"$f":"IF(E9=\"غائب\",E9,IF(D9=\"غائب\",E9,E9+D9))","v":60},{"$f":"IF(F9=\"غائب\",F9,limam(F9))","v":"ستون "},null,null,null,3837,"اماني قنبر",80]
[4,15325,"مريم العبد الله","محمد",{"$f":"VLOOKUP(B10,K:M,3,0)","v":56},56,{"$f":"IF(F10=\"غائب\",F10,limam(F10))","v":"ست و خمسون "},null,null,null,4503,"صبا الديبان",76,{"$f":"VLOOKUP(K10,B:E,4,0)","v":76},{"$f":"M10-N10","v":0}]
[5,5617,"هلا زينو ","محمد زاهر",72,72,{"$f":"IF(F11=\"غائب\",F11,limam(F11))","v":"اثنتان و سبعون "},null,null,null,5577,"مريم فرزاد",80,80,0]
[6,4053,"نور الصالح","عدنان",76,76,{"$f":"IF(F12=\"غائب\",F12,limam(F12))","v":"ست و سبعون "},null,null,null,5617,"هلا زينو",72]
[7,5618,"توفيق الحمدو","محمد",{"$f":"VLOOKUP(B13,K:M,3,0)","v":74},74,{"$f":"IF(F13=\"غائب\",F13,limam(F13))","v":"أربع و سبعون "},null,null,null,5618,"توفيق الحمدو",74,{"$f":"VLOOKUP(K13,B:E,4,0)","v":74},{"$f":"M13-N13","v":0}]
[8,3044,"جورد اليان","فواز",70,70,{"$f":"IF(F14=\"غائب\",F14,limam(F14))","v":"سبعون "},null,null,null,15325,"مريم العبد الله",56,56,0]
[9,3837,"اماني قنبر","عمر",80,80,{"$f":"IF(F15=\"غائب\",F15,limam(F15))","v":"ثمانون "},null,null,null,15337,"وائل العلي",62,62,0]
[10,3299,"محمود الضاهر",null,40,{"$f":"IF(E16=\"غائب\",E16,IF(D16=\"غائب\",E16,E16+D16))","v":40},{"$f":"IF(F16=\"غائب\",F16,limam(F16))","v":"أربعون "}]

{"sheet":"المناهج 3","index":6,"n_rows":8,"n_cols":14,"rows_kept":8,"cut":false,"hidden":false,"merged":[[1072,0,1072,8],[770,0,770,8],[780,0,780,8],[782,0,782,8],[848,0,848,8],[994,0,994,8],[1034,0,1034,8],[741,0,741,8],[477,0,477,8],[516,0,516,8],[604,0,604,8],[615,0,615,8],[625,0,625,8],[629,0,629,8],[650,0,650,8],[681,0,681,8],[721,0,721,8],[729,0,729,8],[733,0,733,8],[365,0,365,8],[0,0,0,1],[3,0,4,0],[3,1,4,1],[3,2,4,2],[3,3,4,3],[3,4,4,4],[3,5,4,5],[3,6,3,7],[3,8,4,8],[238,0,238,8],[281,0,281,8]]}
[null,null,"المقرر: مناهج البحث"]
[null,null,"السنة: الاولى","الدورة: الثالثة",null,null,"العام الدراسي : 2016-2017","2017-2018"]
[null,null,null,"مواد الفصل : الثاني",null,null," نوع الامتحان : عملي + نظري"]
["م","الرقم الجامعي","الاسم والشهرة","اسم الأب","العملي","النظري","المجموع",null,"ملاحظات"]
[null,null,null,null,null,null,"رقماً","كتابةً"]
[null,null,"سنة رابعة (حملة)",null,null,null,null,null,null,{"$f":"COUNT(F7:F1139)","v":2},null,"الرقم الامتحاني","الاسم","العلامة النهائية"]
[1,5703,"اسعد الاسعد",null,null,42,null,null,"؟؟؟؟",null,null,4017,"حنان عسكر",46]
[2,4017,"حنان عسكر","خليل ",10,46,null,null,null,null,null,5703,"اسعد الاسعد",42]

{"sheet":"احياء وبيئة 3","index":7,"n_rows":9,"n_cols":16,"rows_kept":9,"cut":false,"hidden":false,"merged":[[1072,0,1072,8],[770,0,770,8],[780,0,780,8],[782,0,782,8],[848,0,848,8],[994,0,994,8],[1034,0,1034,8],[741,0,741,8],[477,0,477,8],[516,0,516,8],[604,0,604,8],[615,0,615,8],[625,0,625,8],[629,0,629,8],[650,0,650,8],[681,0,681,8],[721,0,721,8],[729,0,729,8],[733,0,733,8],[0,6,0,8],[365,0,365,8],[0,0,0,1],[3,0,4,0],[3,1,4,1],[3,2,4,2],[3,3,4,3],[3,4,4,4],[1,6,1,7],[3,5,4,5],[3,6,3,7],[3,8,4,8],[238,0,238,8],[281,0,281,8]]}
[null,null,"المقرر: الاحياء والبيئة",null,null,null,"تاريخه :   24  /9 / 2018       "]
[null,null,"السنة: الاولى","الدورة: التكميلية",null,null,"العام الدراسي : 2017-2018"]
[null,null,null,"مواد الفصل : الثاني",null,null," نوع الامتحان : عملي + نظري"]
["م","الرقم الجامعي","الاسم والشهرة","اسم الأب","العملي","النظري","المجموع",null,"ملاحظات"]
[null,null,null,null,null,null,"رقماً","كتابةً"]
[null,null,"سنة رابعة (حملة)",null,null,null,null,null,null,{"$f":"COUNT(F7:F1139)","v":3},null,"الرقم الامتحاني","الاسم","العلامة النهائية"]
[1,3658,"شيراز المحمد","احمد","غائب",{"$f":"VLOOKUP(B7,L:N,3,0)","v":47},null,null,null,null,null,3658,"شيراز المحمد",47,{"$f":"VLOOKUP(L7,B:F,5,0)","v":47},{"$f":"N7-O7","v":0}]
[2,5228,"احلام الشومل","علي",23,{"$f":"VLOOKUP(B8,L:N,3,0)","v":54},null,null,null,null,null,5228,"احلام الشومل",54,{"$f":"VLOOKUP(L8,B:F,5,0)","v":54},{"$f":"N8-O8","v":0}]
[3,5522,"بيان محمد الخليل","محمد",10,{"$f":"VLOOKUP(B9,L:N,3,0)","v":47},null,null,null,null,null,5522,"بيان محمد الخليل",47,47,0]

{"sheet":"علم النفس العام3","index":8,"n_rows":11,"n_cols":16,"rows_kept":11,"cut":false,"hidden":false,"merged":[[1072,0,1072,7],[2,5,2,6],[770,0,770,7],[780,0,780,7],[782,0,782,7],[848,0,848,7],[994,0,994,7],[1034,0,1034,7],[650,0,650,7],[681,0,681,7],[721,0,721,7],[729,0,729,7],[733,0,733,7],[741,0,741,7],[477,0,477,7],[516,0,516,7],[604,0,604,7],[615,0,615,7],[625,0,625,7],[629,0,629,7],[3,4,4,4],[3,5,3,6],[3,7,4,7],[238,0,238,7],[281,0,281,7],[365,0,365,7],[1,5,1,6],[0,0,0,1],[3,0,4,0],[3,1,4,1],[3,2,4,2],[3,3,4,3]]}
[null,null,"المقرر: علم النفس العام"]
[null,null,"السنة: الاولى","الدورة: التكميلية",null,"العام الدراسي : 2017-2018"]
[null,null,null,"مواد الفصل : الثاني","الاول","نوع الامتحان : نظري"]
["م","الرقم الجامعي","الاسم والشهرة","اسم الأب","النظري","المجموع",null,"ملاحظات"]
[null,null,null,null,null,"رقماً","كتابةً"]
[null,null,"سنة رابعة (حملة)",null,null,null,null,null,{"$f":"COUNT(E7:E1139)","v":5},null,null,"الرقم الامتحاني","الاسم","العلامة النهائية"]
[1,2990,"محمد الحسن","جاسم",{"$f":"VLOOKUP(B7,L:N,3,0)","v":54},{"$f":"E7","v":54},{"$f":"IF(F7=\"غائب\",F7,limam(F7))","v":"أربع و خمسون "},null,null,null,null,2990,"محمد الحسن",54,{"$f":"VLOOKUP(L7,B:E,4,0)","v":54},{"$f":"N7-O7","v":0}]
[2,3692,"بشرى زينو","حمدو",{"$f":"VLOOKUP(B8,L:N,3,0)","v":86},{"$f":"E8","v":86},{"$f":"IF(F8=\"غائب\",F8,limam(F8))","v":"ست و ثمانون "},null,null,null,null,3692,"بشرى زينو",86,{"$f":"VLOOKUP(L8,B:E,4,0)","v":86},{"$f":"N8-O8","v":0}]
[3,3820,"اسراء الابراهيم","عبد الكريم",{"$f":"VLOOKUP(B9,L:N,3,0)","v":70},{"$f":"E9","v":70},{"$f":"IF(F9=\"غائب\",F9,limam(F9))","v":"سبعون "},null,null,null,null,3820,"اسراء الابراهيم",70,70,0]
[4,4033,"عبد الله صطوف","مروان",{"$f":"VLOOKUP(B10,L:N,3,0)","v":36},{"$f":"E10","v":36},{"$f":"IF(F10=\"غائب\",F10,limam(F10))","v":"ست و ثلاثون "},null,null,null,null,4033,"عبد الله صطوف",36,36,0]
[5,15393,"زينة السليمان","حسن",{"$f":"VLOOKUP(B11,L:N,3,0)","v":66},{"$f":"E11","v":66},{"$f":"IF(F11=\"غائب\",F11,limam(F11))","v":"ست و ستون "},null,null,null,null,15393,"زينة السليمان",66,66,0]

{"sheet":"رياضية 3","index":9,"n_rows":8,"n_cols":10,"rows_kept":8,"cut":false,"hidden":false,"merged":[[365,0,365,8],[0,0,0,1],[3,0,4,0],[3,1,4,1],[3,2,4,2],[3,3,4,3],[3,4,4,4],[3,5,4,5],[3,6,3,7],[3,8,4,8],[238,0,238,8],[281,0,281,8],[741,0,741,8],[477,0,477,8],[516,0,516,8],[604,0,604,8],[615,0,615,8],[625,0,625,8],[629,0,629,8],[650,0,650,8],[681,0,681,8],[721,0,721,8],[729,0,729,8],[733,0,733,8],[1072,0,1072,8],[770,0,770,8],[780,0,780,8],[782,0,782,8],[848,0,848,8],[994,0,994,8],[1034,0,1034,8]]}
[null,null,"المقرر: التربية الرياضية"]
[null,null,"السنة: الاولى","الدورة: الثالثة",null,null,"العام الدراسي : 2016-2017","2017-2018"]
[null,null,null,"مواد الفصل : الثاني",null,null," نوع الامتحان : عملي + نظري"]
["م","الرقم الجامعي","الاسم والشهرة","اسم الأب","العملي","النظري","المجموع",null,"ملاحظات"]
[null,null,null,null,null,null,"رقماً","كتابةً"]
[null,null,"سنة رابعة (حملة)",null,null,null,null,null,null,{"$f":"COUNT(F7:F1139)","v":2}]
[1,3145,"لبنى الابرش","حمزة","غائب",66,{"$f":"IF(F7=\"غائب\",F7,IF(E7=\"غائب\",F7,F7+E7))","v":66},{"$f":"IF(G7=\"غائب\",G7,limam(G7))","v":"ست و ستون "}]
[2,2482,"رشا  القلفا","زياد",18,66,{"$f":"IF(F8=\"غائب\",F8,IF(E8=\"غائب\",F8,F8+E8))","v":84},{"$f":"IF(G8=\"غائب\",G8,limam(G8))","v":"أربع و ثمانون "}]

{"sheet":"تربية صحية","index":10,"n_rows":8,"n_cols":10,"rows_kept":8,"cut":false,"hidden":false,"merged":[[1072,0,1072,8],[770,0,770,8],[780,0,780,8],[782,0,782,8],[848,0,848,8],[994,0,994,8],[1034,0,1034,8],[741,0,741,8],[477,0,477,8],[516,0,516,8],[604,0,604,8],[615,0,615,8],[625,0,625,8],[629,0,629,8],[650,0,650,8],[681,0,681,8],[721,0,721,8],[729,0,729,8],[733,0,733,8],[365,0,365,8],[0,0,0,1],[3,0,4,0],[3,1,4,1],[3,2,4,2],[3,3,4,3],[3,4,4,4],[3,5,4,5],[3,6,3,7],[3,8,4,8],[238,0,238,8],[281,0,281,8]]}
[null,null,"المقرر: التربية الصحية"]
[null,null,"السنة: الاولى","الدورة: الثالثة",null,null,"العام الدراسي : 2016-2017","2017-2018"]
[null,null,null,"مواد الفصل : الثاني",null,null," نوع الامتحان : عملي + نظري"]
["م","الرقم الجامعي","الاسم والشهرة","اسم الأب","العملي","النظري","المجموع",null,"ملاحظات"]
[null,null,null,null,null,null,"رقماً","كتابةً"]
[null,null,"سنة رابعة (حملة)",null,null,null,null,null,null,{"$f":"COUNT(F7:F1139)","v":2}]
[1,3692,"بشرى زينو","حمدو",3,53,{"$f":"IF(F7=\"غائب\",F7,IF(E7=\"غائب\",F7,F7+E7))","v":56},{"$f":"IF(G7=\"غائب\",G7,limam(G7))","v":"ست و خمسون "}]
[2,5703,"اسعد الاسعد","احمد","غائب",39,{"$f":"IF(F8=\"غائب\",F8,IF(E8=\"غائب\",F8,F8+E8))","v":39},{"$f":"IF(G8=\"غائب\",G8,limam(G8))","v":"تسع و ثلاثون "}]

{"sheet":"علوم اجتماعية  (3)","index":11,"n_rows":9,"n_cols":10,"rows_kept":9,"cut":false,"hidden":false,"merged":[[1072,0,1072,8],[770,0,770,8],[780,0,780,8],[782,0,782,8],[848,0,848,8],[994,0,994,8],[1034,0,1034,8],[741,0,741,8],[477,0,477,8],[516,0,516,8],[604,0,604,8],[615,0,615,8],[625,0,625,8],[629,0,629,8],[650,0,650,8],[681,0,681,8],[721,0,721,8],[729,0,729,8],[733,0,733,8],[365,0,365,8],[0,0,0,1],[3,0,4,0],[3,1,4,1],[3,2,4,2],[3,3,4,3],[3,4,4,4],[3,5,4,5],[3,6,3,7],[3,8,4,8],[238,0,238,8],[281,0,281,8]]}
[null,null,"المقرر: العلوم الاجتماعية (تاريخ وجغرافيا)"]
[null,null,"السنة: الاولى","الدورة: التكميلة",null,null,"العام الدراسي : 2016-2017","2017-2018"]
[null,null,null,"مواد الفصل : الثاني",null,null," نوع الامتحان : عملي + نظري"]
["م","الرقم الجامعي","الاسم والشهرة","اسم الأب","العملي","النظري","المجموع",null,"ملاحظات"]
[null,null,null,null,null,null,"رقماً","كتابةً"]
[null,null,"سنة رابعة (حملة)",null,null,null,null,null,null,{"$f":"COUNT(F7:F1139)","v":3}]
[null,3745,"جيما حاصود","فايز",27,35,{"$f":"IF(F7=\"غائب\",F7,IF(E7=\"غائب\",F7,F7+E7))","v":62},{"$f":"IF(G7=\"غائب\",G7,limam(G7))","v":"اثنتان و ستون "}]
[null,5306,"ماريوس عدبة","جرجس",12,40,{"$f":"IF(F8=\"غائب\",F8,IF(E8=\"غائب\",F8,F8+E8))","v":52},{"$f":"IF(G8=\"غائب\",G8,limam(G8))","v":"اثنتان و خمسون "}]
[null,5834,"فاطمة عمعوم",null,13,51,64,{"$f":"IF(G9=\"غائب\",G9,limam(G9))","v":"أربع و ستون "}]